BEGIN:VCALENDAR
VERSION:2.0
PRODID:-//Unité de feluy - ECPv6.10.1.1//NONSGML v1.0//EN
CALSCALE:GREGORIAN
METHOD:PUBLISH
X-ORIGINAL-URL:https://unitedefeluy.be
X-WR-CALDESC:Évènements pour Unité de feluy
REFRESH-INTERVAL;VALUE=DURATION:PT1H
X-Robots-Tag:noindex
X-PUBLISHED-TTL:PT1H
BEGIN:VTIMEZONE
TZID:Europe/Paris
BEGIN:DAYLIGHT
TZOFFSETFROM:+0100
TZOFFSETTO:+0200
TZNAME:CEST
DTSTART:20190331T010000
END:DAYLIGHT
BEGIN:STANDARD
TZOFFSETFROM:+0200
TZOFFSETTO:+0100
TZNAME:CET
DTSTART:20191027T010000
END:STANDARD
END:VTIMEZONE
BEGIN:VEVENT
DTSTART;TZID=Europe/Paris:20190703T080000
DTEND;TZID=Europe/Paris:20190713T170000
DTSTAMP:20260424T181402
CREATED:20190503T132747Z
LAST-MODIFIED:20190503T132747Z
UID:462-1562140800-1563037200@unitedefeluy.be
SUMMARY:Camp Louveteau
DESCRIPTION:
URL:https://unitedefeluy.be/index.php/event/camp-louveteau/
END:VEVENT
BEGIN:VEVENT
DTSTART;TZID=Europe/Paris:20190710T080000
DTEND;TZID=Europe/Paris:20190725T170000
DTSTAMP:20260424T181402
CREATED:20190503T145059Z
LAST-MODIFIED:20190503T145059Z
UID:484-1562745600-1564074000@unitedefeluy.be
SUMMARY:Camp Aspis
DESCRIPTION:
URL:https://unitedefeluy.be/index.php/event/camp-aspis/
END:VEVENT
END:VCALENDAR