BEGIN:VCALENDAR
VERSION:2.0
PRODID:-//Unité de feluy - ECPv6.10.1.1//NONSGML v1.0//EN
CALSCALE:GREGORIAN
METHOD:PUBLISH
X-WR-CALNAME:Unité de feluy
X-ORIGINAL-URL:https://unitedefeluy.be
X-WR-CALDESC:Évènements pour Unité de feluy
REFRESH-INTERVAL;VALUE=DURATION:PT1H
X-Robots-Tag:noindex
X-PUBLISHED-TTL:PT1H
BEGIN:VTIMEZONE
TZID:Europe/Paris
BEGIN:DAYLIGHT
TZOFFSETFROM:+0100
TZOFFSETTO:+0200
TZNAME:CEST
DTSTART:20190331T010000
END:DAYLIGHT
BEGIN:STANDARD
TZOFFSETFROM:+0200
TZOFFSETTO:+0100
TZNAME:CET
DTSTART:20191027T010000
END:STANDARD
END:VTIMEZONE
BEGIN:VEVENT
DTSTART;TZID=Europe/Paris:20190714T080000
DTEND;TZID=Europe/Paris:20190729T170000
DTSTAMP:20260424T165159
CREATED:20190503T144919Z
LAST-MODIFIED:20190503T144919Z
UID:481-1563091200-1564419600@unitedefeluy.be
SUMMARY:Camp Guide
DESCRIPTION:
URL:https://unitedefeluy.be/index.php/event/camp-guide/
END:VEVENT
BEGIN:VEVENT
DTSTART;TZID=Europe/Paris:20190715T080000
DTEND;TZID=Europe/Paris:20190730T170000
DTSTAMP:20260424T165159
CREATED:20190503T132530Z
LAST-MODIFIED:20190503T132530Z
UID:458-1563177600-1564506000@unitedefeluy.be
SUMMARY:Camp Scout
DESCRIPTION:
URL:https://unitedefeluy.be/index.php/event/camp-scout/
END:VEVENT
END:VCALENDAR